BEGIN:VCALENDAR
VERSION:2.0
PRODID:-//Goldgrube//myauktion.com//AT
CALSCALE:GREGORIAN
BEGIN:VEVENT
DTSTART:20260503T122400
DTEND:20260503T122430
LOCATION:Gewerbepark 13, 8562 Mooskirchen
DTSTAMP:20260419T192353
SUMMARY:MyAuktion: Ablauf Artikel Nr. 956167 VC999 Schrumpfbeutel 200x300mm 2000Stk 
URL;VALUE=URI:https://www.myauktion.com/versteigerung7639-position2437526-vc999-schrumpfbeutel-200x300mm-2000stk.php
DESCRIPTION:
UID:myauktion-7639-2437526
BEGIN:VALARM
ACTION:DISPLAY
DESCRIPTION:
TRIGGER:-PT10M
END:VALARM
END:VEVENT
END:VCALENDAR