BEGIN:VCALENDAR
VERSION:2.0
PRODID:-//Goldgrube//myauktion.com//AT
CALSCALE:GREGORIAN
BEGIN:VEVENT
DTSTART:20260503T130100
DTEND:20260503T130130
LOCATION:Gewerbepark 13, 8562 Mooskirchen
DTSTAMP:20260419T211838
SUMMARY:MyAuktion: Ablauf Artikel Nr. 956339 Ergobag Schultasche 
URL;VALUE=URI:https://www.myauktion.com/versteigerung7639-position2437528-ergobag-schultasche.php
DESCRIPTION:
UID:myauktion-7639-2437528
BEGIN:VALARM
ACTION:DISPLAY
DESCRIPTION:
TRIGGER:-PT10M
END:VALARM
END:VEVENT
END:VCALENDAR