BEGIN:VCALENDAR
VERSION:2.0
PRODID:-//Goldgrube//myauktion.com//AT
CALSCALE:GREGORIAN
BEGIN:VEVENT
DTSTART:20260503T131800
DTEND:20260503T131830
LOCATION:Gewerbepark 13, 8562 Mooskirchen
DTSTAMP:20260419T154438
SUMMARY:MyAuktion: Ablauf Artikel Nr. 956385 Berger Scheiben Putzhilfe 
URL;VALUE=URI:https://www.myauktion.com/versteigerung7639-position2437530-berger-scheiben-putzhilfe.php
DESCRIPTION:
UID:myauktion-7639-2437530
BEGIN:VALARM
ACTION:DISPLAY
DESCRIPTION:
TRIGGER:-PT10M
END:VALARM
END:VEVENT
END:VCALENDAR