BEGIN:VCALENDAR
VERSION:2.0
PRODID:-//Goldgrube//myauktion.com//AT
CALSCALE:GREGORIAN
BEGIN:VEVENT
DTSTART:20260503T132400
DTEND:20260503T132430
LOCATION:Gewerbepark 13, 8562 Mooskirchen
DTSTAMP:20260419T192358
SUMMARY:MyAuktion: Ablauf Artikel Nr. 956388 Thule Connection PCS Tens Raft 5200 
URL;VALUE=URI:https://www.myauktion.com/versteigerung7639-position2437533-thule-connection-pcs-tens-raft-5200.php
DESCRIPTION:
UID:myauktion-7639-2437533
BEGIN:VALARM
ACTION:DISPLAY
DESCRIPTION:
TRIGGER:-PT10M
END:VALARM
END:VEVENT
END:VCALENDAR