BEGIN:VCALENDAR
VERSION:2.0
PRODID:-//Goldgrube//myauktion.com//AT
CALSCALE:GREGORIAN
BEGIN:VEVENT
DTSTART:20260503T130200
DTEND:20260503T130230
LOCATION:Gewerbepark 13, 8562 Mooskirchen
DTSTAMP:20260419T151132
SUMMARY:MyAuktion: Ablauf Artikel Nr. 956340 Teppich 
URL;VALUE=URI:https://www.myauktion.com/versteigerung7639-position2437534-teppich.php
DESCRIPTION:Breite ca. 130cm. Länge ist nicht ersichtlich 
UID:myauktion-7639-2437534
BEGIN:VALARM
ACTION:DISPLAY
DESCRIPTION:Breite ca. 130cm. Länge ist nicht ersichtlich 
TRIGGER:-PT10M
END:VALARM
END:VEVENT
END:VCALENDAR