BEGIN:VCALENDAR
VERSION:2.0
PRODID:-//Goldgrube//myauktion.com//AT
CALSCALE:GREGORIAN
BEGIN:VEVENT
DTSTART:20260503T102600
DTEND:20260503T102630
LOCATION:Gewerbepark 13, 8562 Mooskirchen
DTSTAMP:20260419T154438
SUMMARY:MyAuktion: Ablauf Artikel Nr. 955571 Rutschfeste Unterlage Panzer Glass Safe schwarz 2Stk 34x20cm 
URL;VALUE=URI:https://www.myauktion.com/versteigerung7639-position2437537-rutschfeste-unterlage-panzer-glass-safe-schwarz-2stk-34x20cm.php
DESCRIPTION:
UID:myauktion-7639-2437537
BEGIN:VALARM
ACTION:DISPLAY
DESCRIPTION:
TRIGGER:-PT10M
END:VALARM
END:VEVENT
END:VCALENDAR