BEGIN:VCALENDAR
VERSION:2.0
PRODID:-//Goldgrube//myauktion.com//AT
CALSCALE:GREGORIAN
BEGIN:VEVENT
DTSTART:20260503T132800
DTEND:20260503T132830
LOCATION:Gewerbepark 13, 8562 Mooskirchen
DTSTAMP:20260419T195656
SUMMARY:MyAuktion: Ablauf Artikel Nr. 956391 Hella Umrißleuchte 12V 2XS008.479-011 
URL;VALUE=URI:https://www.myauktion.com/versteigerung7639-position2437539-hella-umrissleuchte-12v-2xs008479-011.php
DESCRIPTION:
UID:myauktion-7639-2437539
BEGIN:VALARM
ACTION:DISPLAY
DESCRIPTION:
TRIGGER:-PT10M
END:VALARM
END:VEVENT
END:VCALENDAR