BEGIN:VCALENDAR
VERSION:2.0
PRODID:-//Goldgrube//myauktion.com//AT
CALSCALE:GREGORIAN
BEGIN:VEVENT
DTSTART:20260503T102800
DTEND:20260503T102830
LOCATION:Gewerbepark 13, 8562 Mooskirchen
DTSTAMP:20260419T154439
SUMMARY:MyAuktion: Ablauf Artikel Nr. 955572 Sodastream DUO Thermic 0,8l 
URL;VALUE=URI:https://www.myauktion.com/versteigerung7639-position2437540-sodastream-duo-thermic-08l.php
DESCRIPTION:
UID:myauktion-7639-2437540
BEGIN:VALARM
ACTION:DISPLAY
DESCRIPTION:
TRIGGER:-PT10M
END:VALARM
END:VEVENT
END:VCALENDAR