BEGIN:VCALENDAR
VERSION:2.0
PRODID:-//Goldgrube//myauktion.com//AT
CALSCALE:GREGORIAN
BEGIN:VEVENT
DTSTART:20260503T131300
DTEND:20260503T131330
LOCATION:Gewerbepark 13, 8562 Mooskirchen
DTSTAMP:20260419T192356
SUMMARY:MyAuktion: Ablauf Artikel Nr. 956346 HAWE Hydraulik SE NSMD Spannmodul
URL;VALUE=URI:https://www.myauktion.com/versteigerung7639-position2437547-hawe-hydraulik-se-nsmd-spannmodul.php
DESCRIPTION:
UID:myauktion-7639-2437547
BEGIN:VALARM
ACTION:DISPLAY
DESCRIPTION:
TRIGGER:-PT10M
END:VALARM
END:VEVENT
END:VCALENDAR