BEGIN:VCALENDAR
VERSION:2.0
PRODID:-//Goldgrube//myauktion.com//AT
CALSCALE:GREGORIAN
BEGIN:VEVENT
DTSTART:20260503T133500
DTEND:20260503T133530
LOCATION:Gewerbepark 13, 8562 Mooskirchen
DTSTAMP:20260419T151133
SUMMARY:MyAuktion: Ablauf Artikel Nr. 956394 Lagerbolzen Maßrand DM=25 1312071 
URL;VALUE=URI:https://www.myauktion.com/versteigerung7639-position2437548-lagerbolzen-massrand-dm25-1312071.php
DESCRIPTION:
UID:myauktion-7639-2437548
BEGIN:VALARM
ACTION:DISPLAY
DESCRIPTION:
TRIGGER:-PT10M
END:VALARM
END:VEVENT
END:VCALENDAR