BEGIN:VCALENDAR
VERSION:2.0
PRODID:-//Goldgrube//myauktion.com//AT
CALSCALE:GREGORIAN
BEGIN:VEVENT
DTSTART:20260503T092100
DTEND:20260503T092130
LOCATION:Gewerbepark 13, 8562 Mooskirchen
DTSTAMP:20260419T142653
SUMMARY:MyAuktion: Ablauf Artikel Nr. 955298 Aluminium SMD Schablone
URL;VALUE=URI:https://www.myauktion.com/versteigerung7639-position2437549-aluminium-smd-schablone.php
DESCRIPTION:AlMg1SiCu/6061, Gebraucht
UID:myauktion-7639-2437549
BEGIN:VALARM
ACTION:DISPLAY
DESCRIPTION:AlMg1SiCu/6061, Gebraucht
TRIGGER:-PT10M
END:VALARM
END:VEVENT
END:VCALENDAR