BEGIN:VCALENDAR
VERSION:2.0
PRODID:-//Goldgrube//myauktion.com//AT
CALSCALE:GREGORIAN
BEGIN:VEVENT
DTSTART:20260503T102900
DTEND:20260503T102930
LOCATION:Gewerbepark 13, 8562 Mooskirchen
DTSTAMP:20260419T154431
SUMMARY:MyAuktion: Ablauf Artikel Nr. 955573 Panzer Glass On Demand Matte Anti-Reflective Screen Protector for Phone 10PCS 200mmx125mm
URL;VALUE=URI:https://www.myauktion.com/versteigerung7639-position2437551-panzer-glass-on-demand-matte-anti-reflective-screen-protector-for-phone-10pcs-200mmx125mm.php
DESCRIPTION:
UID:myauktion-7639-2437551
BEGIN:VALARM
ACTION:DISPLAY
DESCRIPTION:
TRIGGER:-PT10M
END:VALARM
END:VEVENT
END:VCALENDAR