BEGIN:VCALENDAR
VERSION:2.0
PRODID:-//Goldgrube//myauktion.com//AT
CALSCALE:GREGORIAN
BEGIN:VEVENT
DTSTART:20260503T133700
DTEND:20260503T133730
LOCATION:Gewerbepark 13, 8562 Mooskirchen
DTSTAMP:20260419T151133
SUMMARY:MyAuktion: Ablauf Artikel Nr. 956396 Schiedel Abdeckung RA Niro/Alu 18-17/26 100443 
URL;VALUE=URI:https://www.myauktion.com/versteigerung7639-position2437552-schiedel-abdeckung-ra-niro-alu-18-17-26-100443.php
DESCRIPTION:
UID:myauktion-7639-2437552
BEGIN:VALARM
ACTION:DISPLAY
DESCRIPTION:
TRIGGER:-PT10M
END:VALARM
END:VEVENT
END:VCALENDAR