BEGIN:VCALENDAR
VERSION:2.0
PRODID:-//Goldgrube//myauktion.com//AT
CALSCALE:GREGORIAN
BEGIN:VEVENT
DTSTART:20260503T131400
DTEND:20260503T131430
LOCATION:Gewerbepark 13, 8562 Mooskirchen
DTSTAMP:20260419T154439
SUMMARY:MyAuktion: Ablauf Artikel Nr. 956347 Schneidebrett 3er Set 
URL;VALUE=URI:https://www.myauktion.com/versteigerung7639-position2437553-schneidebrett-3er-set.php
DESCRIPTION:40x30cm ,33x24cm,26x18cm 
UID:myauktion-7639-2437553
BEGIN:VALARM
ACTION:DISPLAY
DESCRIPTION:40x30cm ,33x24cm,26x18cm 
TRIGGER:-PT10M
END:VALARM
END:VEVENT
END:VCALENDAR