BEGIN:VCALENDAR
VERSION:2.0
PRODID:-//Goldgrube//myauktion.com//AT
CALSCALE:GREGORIAN
BEGIN:VEVENT
DTSTART:20260503T092200
DTEND:20260503T092230
LOCATION:Gewerbepark 13, 8562 Mooskirchen
DTSTAMP:20260419T142653
SUMMARY:MyAuktion: Ablauf Artikel Nr. 955299 Stahl-Musterstück für Lasergravur 
URL;VALUE=URI:https://www.myauktion.com/versteigerung7639-position2437555-stahl-musterstueck-fuer-lasergravur.php
DESCRIPTION:Gebraucht, ca 19,5×8cm
UID:myauktion-7639-2437555
BEGIN:VALARM
ACTION:DISPLAY
DESCRIPTION:Gebraucht, ca 19,5×8cm
TRIGGER:-PT10M
END:VALARM
END:VEVENT
END:VCALENDAR