BEGIN:VCALENDAR
VERSION:2.0
PRODID:-//Goldgrube//myauktion.com//AT
CALSCALE:GREGORIAN
BEGIN:VEVENT
DTSTART:20260503T103000
DTEND:20260503T103030
LOCATION:Gewerbepark 13, 8562 Mooskirchen
DTSTAMP:20260419T154436
SUMMARY:MyAuktion: Ablauf Artikel Nr. 955574 Panzer Glass On| Demand Clear Screen Protector for Phone 10 PCS 200mmx125mm
URL;VALUE=URI:https://www.myauktion.com/versteigerung7639-position2437557-panzer-glass-on-demand-clear-screen-protector-for-phone-10-pcs-200mmx125mm.php
DESCRIPTION:
UID:myauktion-7639-2437557
BEGIN:VALARM
ACTION:DISPLAY
DESCRIPTION:
TRIGGER:-PT10M
END:VALARM
END:VEVENT
END:VCALENDAR