BEGIN:VCALENDAR
VERSION:2.0
PRODID:-//Goldgrube//myauktion.com//AT
CALSCALE:GREGORIAN
BEGIN:VEVENT
DTSTART:20260503T134100
DTEND:20260503T134130
LOCATION:Gewerbepark 13, 8562 Mooskirchen
DTSTAMP:20260419T192355
SUMMARY:MyAuktion: Ablauf Artikel Nr. 956399 Sunnytrend Solar LED Glaskugelset "crackle Balls" 2tlg. 
URL;VALUE=URI:https://www.myauktion.com/versteigerung7639-position2437558-sunnytrend-solar-led-glaskugelset-34crackle-balls-34-2tlg.php
DESCRIPTION:15cm 10cm 
UID:myauktion-7639-2437558
BEGIN:VALARM
ACTION:DISPLAY
DESCRIPTION:15cm 10cm 
TRIGGER:-PT10M
END:VALARM
END:VEVENT
END:VCALENDAR