BEGIN:VCALENDAR
VERSION:2.0
PRODID:-//Goldgrube//myauktion.com//AT
CALSCALE:GREGORIAN
BEGIN:VEVENT
DTSTART:20260503T131500
DTEND:20260503T131530
LOCATION:Gewerbepark 13, 8562 Mooskirchen
DTSTAMP:20260419T142651
SUMMARY:MyAuktion: Ablauf Artikel Nr. 956348 Arzopa 16.1" 180P Portable Monitor 
URL;VALUE=URI:https://www.myauktion.com/versteigerung7639-position2437562-arzopa-161-34-180p-portable-monitor.php
DESCRIPTION:
UID:myauktion-7639-2437562
BEGIN:VALARM
ACTION:DISPLAY
DESCRIPTION:
TRIGGER:-PT10M
END:VALARM
END:VEVENT
END:VCALENDAR