BEGIN:VCALENDAR
VERSION:2.0
PRODID:-//Goldgrube//myauktion.com//AT
CALSCALE:GREGORIAN
BEGIN:VEVENT
DTSTART:20260503T092400
DTEND:20260503T092430
LOCATION:Gewerbepark 13, 8562 Mooskirchen
DTSTAMP:20260419T142652
SUMMARY:MyAuktion: Ablauf Artikel Nr. 955301 Ricoh M C320H Tonerkartusche Cyan
URL;VALUE=URI:https://www.myauktion.com/versteigerung7639-position2437567-ricoh-m-c320h-tonerkartusche-cyan.php
DESCRIPTION:
UID:myauktion-7639-2437567
BEGIN:VALARM
ACTION:DISPLAY
DESCRIPTION:
TRIGGER:-PT10M
END:VALARM
END:VEVENT
END:VCALENDAR