BEGIN:VCALENDAR
VERSION:2.0
PRODID:-//Goldgrube//myauktion.com//AT
CALSCALE:GREGORIAN
BEGIN:VEVENT
DTSTART:20260503T092500
DTEND:20260503T092530
LOCATION:Gewerbepark 13, 8562 Mooskirchen
DTSTAMP:20260419T142653
SUMMARY:MyAuktion: Ablauf Artikel Nr. 955302 Ricoh M C320H Tonerkartusche Gelb
URL;VALUE=URI:https://www.myauktion.com/versteigerung7639-position2437569-ricoh-m-c320h-tonerkartusche-gelb.php
DESCRIPTION:
UID:myauktion-7639-2437569
BEGIN:VALARM
ACTION:DISPLAY
DESCRIPTION:
TRIGGER:-PT10M
END:VALARM
END:VEVENT
END:VCALENDAR