BEGIN:VCALENDAR
VERSION:2.0
PRODID:-//Goldgrube//myauktion.com//AT
CALSCALE:GREGORIAN
BEGIN:VEVENT
DTSTART:20260503T134900
DTEND:20260503T134930
LOCATION:Gewerbepark 13, 8562 Mooskirchen
DTSTAMP:20260419T205715
SUMMARY:MyAuktion: Ablauf Artikel Nr. 956405 Novritsch Dump Pouch E27M 
URL;VALUE=URI:https://www.myauktion.com/versteigerung7639-position2437570-novritsch-dump-pouch-e27m.php
DESCRIPTION:
UID:myauktion-7639-2437570
BEGIN:VALARM
ACTION:DISPLAY
DESCRIPTION:
TRIGGER:-PT10M
END:VALARM
END:VEVENT
END:VCALENDAR