BEGIN:VCALENDAR
VERSION:2.0
PRODID:-//Goldgrube//myauktion.com//AT
CALSCALE:GREGORIAN
BEGIN:VEVENT
DTSTART:20260503T131600
DTEND:20260503T131630
LOCATION:Gewerbepark 13, 8562 Mooskirchen
DTSTAMP:20260419T154441
SUMMARY:MyAuktion: Ablauf Artikel Nr. 956349 Heininger Xplorerpro 2 Speed 
URL;VALUE=URI:https://www.myauktion.com/versteigerung7639-position2437571-heininger-xplorerpro-2-speed.php
DESCRIPTION:Gebraucht ,funktion nicht geprüft. Laut foto
UID:myauktion-7639-2437571
BEGIN:VALARM
ACTION:DISPLAY
DESCRIPTION:Gebraucht ,funktion nicht geprüft. Laut foto
TRIGGER:-PT10M
END:VALARM
END:VEVENT
END:VCALENDAR