BEGIN:VCALENDAR
VERSION:2.0
PRODID:-//Goldgrube//myauktion.com//AT
CALSCALE:GREGORIAN
BEGIN:VEVENT
DTSTART:20260503T135000
DTEND:20260503T135030
LOCATION:Gewerbepark 13, 8562 Mooskirchen
DTSTAMP:20260419T193446
SUMMARY:MyAuktion: Ablauf Artikel Nr. 956406 Gummigranulatpads 170x170x3mm 50Stk 
URL;VALUE=URI:https://www.myauktion.com/versteigerung7639-position2437573-gummigranulatpads-170x170x3mm-50stk.php
DESCRIPTION:
UID:myauktion-7639-2437573
BEGIN:VALARM
ACTION:DISPLAY
DESCRIPTION:
TRIGGER:-PT10M
END:VALARM
END:VEVENT
END:VCALENDAR