BEGIN:VCALENDAR
VERSION:2.0
PRODID:-//Goldgrube//myauktion.com//AT
CALSCALE:GREGORIAN
BEGIN:VEVENT
DTSTART:20260503T092600
DTEND:20260503T092630
LOCATION:Gewerbepark 13, 8562 Mooskirchen
DTSTAMP:20260419T142654
SUMMARY:MyAuktion: Ablauf Artikel Nr. 955303 Pop-Up-Zelt 
URL;VALUE=URI:https://www.myauktion.com/versteigerung7639-position2437574-pop-up-zelt.php
DESCRIPTION:Beschädigt, 120×80×70cm
UID:myauktion-7639-2437574
BEGIN:VALARM
ACTION:DISPLAY
DESCRIPTION:Beschädigt, 120×80×70cm
TRIGGER:-PT10M
END:VALARM
END:VEVENT
END:VCALENDAR