BEGIN:VCALENDAR
VERSION:2.0
PRODID:-//Goldgrube//myauktion.com//AT
CALSCALE:GREGORIAN
BEGIN:VEVENT
DTSTART:20260503T103900
DTEND:20260503T103930
LOCATION:Gewerbepark 13, 8562 Mooskirchen
DTSTAMP:20260419T154440
SUMMARY:MyAuktion: Ablauf Artikel Nr. 955578 Panzer Glass Ultra Wide Fit Screen Protection Für iPhone 17 Pro Max  Ceramic Protection 2 
URL;VALUE=URI:https://www.myauktion.com/versteigerung7639-position2437576-panzer-glass-ultra-wide-fit-screen-protection-fuer-iphone-17-pro-max-ceramic-protection-2.php
DESCRIPTION:
UID:myauktion-7639-2437576
BEGIN:VALARM
ACTION:DISPLAY
DESCRIPTION:
TRIGGER:-PT10M
END:VALARM
END:VEVENT
END:VCALENDAR