BEGIN:VCALENDAR
VERSION:2.0
PRODID:-//Goldgrube//myauktion.com//AT
CALSCALE:GREGORIAN
BEGIN:VEVENT
DTSTART:20260503T092700
DTEND:20260503T092730
LOCATION:Gewerbepark 13, 8562 Mooskirchen
DTSTAMP:20260419T154439
SUMMARY:MyAuktion: Ablauf Artikel Nr. 955304 Iviston Reifen 
URL;VALUE=URI:https://www.myauktion.com/versteigerung7639-position2437580-iviston-reifen.php
DESCRIPTION:12½×2¼ (62-203)
UID:myauktion-7639-2437580
BEGIN:VALARM
ACTION:DISPLAY
DESCRIPTION:12½×2¼ (62-203)
TRIGGER:-PT10M
END:VALARM
END:VEVENT
END:VCALENDAR