BEGIN:VCALENDAR
VERSION:2.0
PRODID:-//Goldgrube//myauktion.com//AT
CALSCALE:GREGORIAN
BEGIN:VEVENT
DTSTART:20260503T135700
DTEND:20260503T135730
LOCATION:Gewerbepark 13, 8562 Mooskirchen
DTSTAMP:20260419T192359
SUMMARY:MyAuktion: Ablauf Artikel Nr. 956411 Logitech Blue Yeti Premium Multi-Pattern USB Microphone 
URL;VALUE=URI:https://www.myauktion.com/versteigerung7639-position2437583-logitech-blue-yeti-premium-multi-pattern-usb-microphone.php
DESCRIPTION:
UID:myauktion-7639-2437583
BEGIN:VALARM
ACTION:DISPLAY
DESCRIPTION:
TRIGGER:-PT10M
END:VALARM
END:VEVENT
END:VCALENDAR