BEGIN:VCALENDAR
VERSION:2.0
PRODID:-//Goldgrube//myauktion.com//AT
CALSCALE:GREGORIAN
BEGIN:VEVENT
DTSTART:20260503T140100
DTEND:20260503T140130
LOCATION:Gewerbepark 13, 8562 Mooskirchen
DTSTAMP:20260419T154435
SUMMARY:MyAuktion: Ablauf Artikel Nr. 956415 Cordless Electric Ratchet 
URL;VALUE=URI:https://www.myauktion.com/versteigerung7639-position2437588-cordless-electric-ratchet.php
DESCRIPTION:
UID:myauktion-7639-2437588
BEGIN:VALARM
ACTION:DISPLAY
DESCRIPTION:
TRIGGER:-PT10M
END:VALARM
END:VEVENT
END:VCALENDAR