BEGIN:VCALENDAR
VERSION:2.0
PRODID:-//Goldgrube//myauktion.com//AT
CALSCALE:GREGORIAN
BEGIN:VEVENT
DTSTART:20260503T093100
DTEND:20260503T093130
LOCATION:Gewerbepark 13, 8562 Mooskirchen
DTSTAMP:20260419T142653
SUMMARY:MyAuktion: Ablauf Artikel Nr. 955305 Magnetische Platten diverse Farben & Formen
URL;VALUE=URI:https://www.myauktion.com/versteigerung7639-position2437590-magnetische-platten-diverse-farben-38-formen.php
DESCRIPTION:Gebraucht, Verschmutzt
UID:myauktion-7639-2437590
BEGIN:VALARM
ACTION:DISPLAY
DESCRIPTION:Gebraucht, Verschmutzt
TRIGGER:-PT10M
END:VALARM
END:VEVENT
END:VCALENDAR