BEGIN:VCALENDAR
VERSION:2.0
PRODID:-//Goldgrube//myauktion.com//AT
CALSCALE:GREGORIAN
BEGIN:VEVENT
DTSTART:20260503T140400
DTEND:20260503T140430
LOCATION:Gewerbepark 13, 8562 Mooskirchen
DTSTAMP:20260419T192353
SUMMARY:MyAuktion: Ablauf Artikel Nr. 956418 D&#39;Addario Pro Arte Nylon Core Normal Tension EJ45 
URL;VALUE=URI:https://www.myauktion.com/versteigerung7639-position2437594-d-39addario-pro-arte-nylon-core-normal-tension-ej45.php
DESCRIPTION:
UID:myauktion-7639-2437594
BEGIN:VALARM
ACTION:DISPLAY
DESCRIPTION:
TRIGGER:-PT10M
END:VALARM
END:VEVENT
END:VCALENDAR