BEGIN:VCALENDAR
VERSION:2.0
PRODID:-//Goldgrube//myauktion.com//AT
CALSCALE:GREGORIAN
BEGIN:VEVENT
DTSTART:20260503T093200
DTEND:20260503T093230
LOCATION:Gewerbepark 13, 8562 Mooskirchen
DTSTAMP:20260419T142655
SUMMARY:MyAuktion: Ablauf Artikel Nr. 955306 Scheibenwaschwasserbehälter inklusive Pumpe 
URL;VALUE=URI:https://www.myauktion.com/versteigerung7639-position2437597-scheibenwaschwasserbehaelter-inklusive-pumpe.php
DESCRIPTION:Gebraucht
UID:myauktion-7639-2437597
BEGIN:VALARM
ACTION:DISPLAY
DESCRIPTION:Gebraucht
TRIGGER:-PT10M
END:VALARM
END:VEVENT
END:VCALENDAR