BEGIN:VCALENDAR
VERSION:2.0
PRODID:-//Goldgrube//myauktion.com//AT
CALSCALE:GREGORIAN
BEGIN:VEVENT
DTSTART:20260503T141000
DTEND:20260503T141030
LOCATION:Gewerbepark 13, 8562 Mooskirchen
DTSTAMP:20260419T193446
SUMMARY:MyAuktion: Ablauf Artikel Nr. 956422 Pro&#39;s Pro Tennis Saite 1.25 champagner 417C 200m  
URL;VALUE=URI:https://www.myauktion.com/versteigerung7639-position2437603-pro-39s-pro-tennis-saite-125-champagner-417c-200m.php
DESCRIPTION:
UID:myauktion-7639-2437603
BEGIN:VALARM
ACTION:DISPLAY
DESCRIPTION:
TRIGGER:-PT10M
END:VALARM
END:VEVENT
END:VCALENDAR