BEGIN:VCALENDAR
VERSION:2.0
PRODID:-//Goldgrube//myauktion.com//AT
CALSCALE:GREGORIAN
BEGIN:VEVENT
DTSTART:20260503T141200
DTEND:20260503T141230
LOCATION:Gewerbepark 13, 8562 Mooskirchen
DTSTAMP:20260419T192407
SUMMARY:MyAuktion: Ablauf Artikel Nr. 956423 Pro&#39;s Pro Overgrip Super Tacky+ 30Stk 0.50mm 
URL;VALUE=URI:https://www.myauktion.com/versteigerung7639-position2437604-pro-39s-pro-overgrip-super-tacky-30stk-050mm.php
DESCRIPTION:Verpackung beschädigt 
UID:myauktion-7639-2437604
BEGIN:VALARM
ACTION:DISPLAY
DESCRIPTION:Verpackung beschädigt 
TRIGGER:-PT10M
END:VALARM
END:VEVENT
END:VCALENDAR