BEGIN:VCALENDAR
VERSION:2.0
PRODID:-//Goldgrube//myauktion.com//AT
CALSCALE:GREGORIAN
BEGIN:VEVENT
DTSTART:20260503T141400
DTEND:20260503T141430
LOCATION:Gewerbepark 13, 8562 Mooskirchen
DTSTAMP:20260419T205716
SUMMARY:MyAuktion: Ablauf Artikel Nr. 956425 Kerzenständer ca. 20cm 
URL;VALUE=URI:https://www.myauktion.com/versteigerung7639-position2437608-kerzenstaender-ca-20cm.php
DESCRIPTION:
UID:myauktion-7639-2437608
BEGIN:VALARM
ACTION:DISPLAY
DESCRIPTION:
TRIGGER:-PT10M
END:VALARM
END:VEVENT
END:VCALENDAR