BEGIN:VCALENDAR
VERSION:2.0
PRODID:-//Goldgrube//myauktion.com//AT
CALSCALE:GREGORIAN
BEGIN:VEVENT
DTSTART:20260503T141500
DTEND:20260503T141530
LOCATION:Gewerbepark 13, 8562 Mooskirchen
DTSTAMP:20260419T192347
SUMMARY:MyAuktion: Ablauf Artikel Nr. 956426 AquaSu Offertio Type 1/2" 
URL;VALUE=URI:https://www.myauktion.com/versteigerung7639-position2437610-aquasu-offertio-type-1-2-34.php
DESCRIPTION:Verpackung beschädigt 
UID:myauktion-7639-2437610
BEGIN:VALARM
ACTION:DISPLAY
DESCRIPTION:Verpackung beschädigt 
TRIGGER:-PT10M
END:VALARM
END:VEVENT
END:VCALENDAR