BEGIN:VCALENDAR
VERSION:2.0
PRODID:-//Goldgrube//myauktion.com//AT
CALSCALE:GREGORIAN
BEGIN:VEVENT
DTSTART:20260503T141700
DTEND:20260503T141730
LOCATION:Gewerbepark 13, 8562 Mooskirchen
DTSTAMP:20260419T193445
SUMMARY:MyAuktion: Ablauf Artikel Nr. 956428 Ricoh Print Cartridge Yellow MP C406 113 
URL;VALUE=URI:https://www.myauktion.com/versteigerung7639-position2437614-ricoh-print-cartridge-yellow-mp-c406-113.php
DESCRIPTION:
UID:myauktion-7639-2437614
BEGIN:VALARM
ACTION:DISPLAY
DESCRIPTION:
TRIGGER:-PT10M
END:VALARM
END:VEVENT
END:VCALENDAR