BEGIN:VCALENDAR
VERSION:2.0
PRODID:-//Goldgrube//myauktion.com//AT
CALSCALE:GREGORIAN
BEGIN:VEVENT
DTSTART:20260503T093600
DTEND:20260503T093630
LOCATION:Gewerbepark 13, 8562 Mooskirchen
DTSTAMP:20260419T142647
SUMMARY:MyAuktion: Ablauf Artikel Nr. 955310 Vibo Zylinderschrauben mit Innensechskant 200stk.
URL;VALUE=URI:https://www.myauktion.com/versteigerung7639-position2437617-vibo-zylinderschrauben-mit-innensechskant-200stk.php
DESCRIPTION:M10×25, ISO 4762 
UID:myauktion-7639-2437617
BEGIN:VALARM
ACTION:DISPLAY
DESCRIPTION:M10×25, ISO 4762 
TRIGGER:-PT10M
END:VALARM
END:VEVENT
END:VCALENDAR