BEGIN:VCALENDAR
VERSION:2.0
PRODID:-//Goldgrube//myauktion.com//AT
CALSCALE:GREGORIAN
BEGIN:VEVENT
DTSTART:20260503T142300
DTEND:20260503T142330
LOCATION:Gewerbepark 13, 8562 Mooskirchen
DTSTAMP:20260419T192356
SUMMARY:MyAuktion: Ablauf Artikel Nr. 956431 Anker Peak Performance in Charging and Recharging 
URL;VALUE=URI:https://www.myauktion.com/versteigerung7639-position2437619-anker-peak-performance-in-charging-and-recharging.php
DESCRIPTION:
UID:myauktion-7639-2437619
BEGIN:VALARM
ACTION:DISPLAY
DESCRIPTION:
TRIGGER:-PT10M
END:VALARM
END:VEVENT
END:VCALENDAR