BEGIN:VCALENDAR
VERSION:2.0
PRODID:-//Goldgrube//myauktion.com//AT
CALSCALE:GREGORIAN
BEGIN:VEVENT
DTSTART:20260503T142400
DTEND:20260503T142430
LOCATION:Gewerbepark 13, 8562 Mooskirchen
DTSTAMP:20260419T162727
SUMMARY:MyAuktion: Ablauf Artikel Nr. 956432 Fahrrad Zubehör 
URL;VALUE=URI:https://www.myauktion.com/versteigerung7639-position2437621-fahrrad-zubehoer.php
DESCRIPTION:Gebraucht, verschmutzt 
UID:myauktion-7639-2437621
BEGIN:VALARM
ACTION:DISPLAY
DESCRIPTION:Gebraucht, verschmutzt 
TRIGGER:-PT10M
END:VALARM
END:VEVENT
END:VCALENDAR