BEGIN:VCALENDAR
VERSION:2.0
PRODID:-//Goldgrube//myauktion.com//AT
CALSCALE:GREGORIAN
BEGIN:VEVENT
DTSTART:20260503T111000
DTEND:20260503T111030
LOCATION:Gewerbepark 13, 8562 Mooskirchen
DTSTAMP:20260419T154431
SUMMARY:MyAuktion: Ablauf Artikel Nr. 955592 Panzer Glass empower Budget Pick Racing 60W USB-C to USB-C Cable 1,2m Schwarz 
URL;VALUE=URI:https://www.myauktion.com/versteigerung7639-position2437624-panzer-glass-empower-budget-pick-racing-60w-usb-c-to-usb-c-cable-12m-schwarz.php
DESCRIPTION:
UID:myauktion-7639-2437624
BEGIN:VALARM
ACTION:DISPLAY
DESCRIPTION:
TRIGGER:-PT10M
END:VALARM
END:VEVENT
END:VCALENDAR