BEGIN:VCALENDAR
VERSION:2.0
PRODID:-//Goldgrube//myauktion.com//AT
CALSCALE:GREGORIAN
BEGIN:VEVENT
DTSTART:20260503T142600
DTEND:20260503T142630
LOCATION:Gewerbepark 13, 8562 Mooskirchen
DTSTAMP:20260419T192400
SUMMARY:MyAuktion: Ablauf Artikel Nr. 956434 Ikea 6xStorsint 22cl 203.963.16 
URL;VALUE=URI:https://www.myauktion.com/versteigerung7639-position2437625-ikea-6xstorsint-22cl-20396316.php
DESCRIPTION:
UID:myauktion-7639-2437625
BEGIN:VALARM
ACTION:DISPLAY
DESCRIPTION:
TRIGGER:-PT10M
END:VALARM
END:VEVENT
END:VCALENDAR