BEGIN:VCALENDAR
VERSION:2.0
PRODID:-//Goldgrube//myauktion.com//AT
CALSCALE:GREGORIAN
BEGIN:VEVENT
DTSTART:20260503T142700
DTEND:20260503T142730
LOCATION:Gewerbepark 13, 8562 Mooskirchen
DTSTAMP:20260419T205715
SUMMARY:MyAuktion: Ablauf Artikel Nr. 956435 Glücksrad 
URL;VALUE=URI:https://www.myauktion.com/versteigerung7639-position2437626-gluecksrad.php
DESCRIPTION:
UID:myauktion-7639-2437626
BEGIN:VALARM
ACTION:DISPLAY
DESCRIPTION:
TRIGGER:-PT10M
END:VALARM
END:VEVENT
END:VCALENDAR