BEGIN:VCALENDAR
VERSION:2.0
PRODID:-//Goldgrube//myauktion.com//AT
CALSCALE:GREGORIAN
BEGIN:VEVENT
DTSTART:20260503T111100
DTEND:20260503T111130
LOCATION:Gewerbepark 13, 8562 Mooskirchen
DTSTAMP:20260419T154435
SUMMARY:MyAuktion: Ablauf Artikel Nr. 955593 Panzer Glass empower Top Pick Racing USB-C to Lightning Cable 1,2m  
URL;VALUE=URI:https://www.myauktion.com/versteigerung7639-position2437628-panzer-glass-empower-top-pick-racing-usb-c-to-lightning-cable-12m.php
DESCRIPTION:
UID:myauktion-7639-2437628
BEGIN:VALARM
ACTION:DISPLAY
DESCRIPTION:
TRIGGER:-PT10M
END:VALARM
END:VEVENT
END:VCALENDAR