BEGIN:VCALENDAR
VERSION:2.0
PRODID:-//Goldgrube//myauktion.com//AT
CALSCALE:GREGORIAN
BEGIN:VEVENT
DTSTART:20260503T143000
DTEND:20260503T143030
LOCATION:Gewerbepark 13, 8562 Mooskirchen
DTSTAMP:20260419T192352
SUMMARY:MyAuktion: Ablauf Artikel Nr. 956438 Ceratizit Reamax TS Halter ZYL52,00-70,00/5xD 
URL;VALUE=URI:https://www.myauktion.com/versteigerung7639-position2437632-ceratizit-reamax-ts-halter-zyl5200-7000-5xd.php
DESCRIPTION:
UID:myauktion-7639-2437632
BEGIN:VALARM
ACTION:DISPLAY
DESCRIPTION:
TRIGGER:-PT10M
END:VALARM
END:VEVENT
END:VCALENDAR