BEGIN:VCALENDAR
VERSION:2.0
PRODID:-//Goldgrube//myauktion.com//AT
CALSCALE:GREGORIAN
BEGIN:VEVENT
DTSTART:20260503T094200
DTEND:20260503T094230
LOCATION:Gewerbepark 13, 8562 Mooskirchen
DTSTAMP:20260419T142652
SUMMARY:MyAuktion: Ablauf Artikel Nr. 955313 BMZ Unterrohr Akku für E-Bikes
URL;VALUE=URI:https://www.myauktion.com/versteigerung7639-position2437633-bmz-unterrohr-akku-fuer-e-bikes.php
DESCRIPTION:
UID:myauktion-7639-2437633
BEGIN:VALARM
ACTION:DISPLAY
DESCRIPTION:
TRIGGER:-PT10M
END:VALARM
END:VEVENT
END:VCALENDAR