BEGIN:VCALENDAR
VERSION:2.0
PRODID:-//Goldgrube//myauktion.com//AT
CALSCALE:GREGORIAN
BEGIN:VEVENT
DTSTART:20260503T111500
DTEND:20260503T111530
LOCATION:Gewerbepark 13, 8562 Mooskirchen
DTSTAMP:20260419T154434
SUMMARY:MyAuktion: Ablauf Artikel Nr. 955595 Panzer Glass empower Need for Speed Turbo 45W Charger 2x PD3.1 USB-C 
URL;VALUE=URI:https://www.myauktion.com/versteigerung7639-position2437634-panzer-glass-empower-need-for-speed-turbo-45w-charger-2x-pd31-usb-c.php
DESCRIPTION:
UID:myauktion-7639-2437634
BEGIN:VALARM
ACTION:DISPLAY
DESCRIPTION:
TRIGGER:-PT10M
END:VALARM
END:VEVENT
END:VCALENDAR