BEGIN:VCALENDAR
VERSION:2.0
PRODID:-//Goldgrube//myauktion.com//AT
CALSCALE:GREGORIAN
BEGIN:VEVENT
DTSTART:20260503T143200
DTEND:20260503T143230
LOCATION:Gewerbepark 13, 8562 Mooskirchen
DTSTAMP:20260419T192349
SUMMARY:MyAuktion: Ablauf Artikel Nr. 956440 Ceratizit Reamax TS 75H.65 ø30 H7
URL;VALUE=URI:https://www.myauktion.com/versteigerung7639-position2437636-ceratizit-reamax-ts-75h65-30-h7.php
DESCRIPTION:
UID:myauktion-7639-2437636
BEGIN:VALARM
ACTION:DISPLAY
DESCRIPTION:
TRIGGER:-PT10M
END:VALARM
END:VEVENT
END:VCALENDAR