BEGIN:VCALENDAR
VERSION:2.0
PRODID:-//Goldgrube//myauktion.com//AT
CALSCALE:GREGORIAN
BEGIN:VEVENT
DTSTART:20260503T094300
DTEND:20260503T094330
LOCATION:Gewerbepark 13, 8562 Mooskirchen
DTSTAMP:20260419T154432
SUMMARY:MyAuktion: Ablauf Artikel Nr. 955314 Android-Autoradio-Infotainment-System
URL;VALUE=URI:https://www.myauktion.com/versteigerung7639-position2437639-android-autoradio-infotainment-system.php
DESCRIPTION:
UID:myauktion-7639-2437639
BEGIN:VALARM
ACTION:DISPLAY
DESCRIPTION:
TRIGGER:-PT10M
END:VALARM
END:VEVENT
END:VCALENDAR