BEGIN:VCALENDAR
VERSION:2.0
PRODID:-//Goldgrube//myauktion.com//AT
CALSCALE:GREGORIAN
BEGIN:VEVENT
DTSTART:20260503T143500
DTEND:20260503T143530
LOCATION:Gewerbepark 13, 8562 Mooskirchen
DTSTAMP:20260419T192406
SUMMARY:MyAuktion: Ablauf Artikel Nr. 956442 PE Lieferscheintaschen selbstklebend 1000Stk 
URL;VALUE=URI:https://www.myauktion.com/versteigerung7639-position2437640-pe-lieferscheintaschen-selbstklebend-1000stk.php
DESCRIPTION:
UID:myauktion-7639-2437640
BEGIN:VALARM
ACTION:DISPLAY
DESCRIPTION:
TRIGGER:-PT10M
END:VALARM
END:VEVENT
END:VCALENDAR