BEGIN:VCALENDAR
VERSION:2.0
PRODID:-//Goldgrube//myauktion.com//AT
CALSCALE:GREGORIAN
BEGIN:VEVENT
DTSTART:20260503T143600
DTEND:20260503T143630
LOCATION:Gewerbepark 13, 8562 Mooskirchen
DTSTAMP:20260419T205716
SUMMARY:MyAuktion: Ablauf Artikel Nr. 956443 Original Helmets Helm 
URL;VALUE=URI:https://www.myauktion.com/versteigerung7639-position2437642-original-helmets-helm.php
DESCRIPTION:Gr. XXL 
UID:myauktion-7639-2437642
BEGIN:VALARM
ACTION:DISPLAY
DESCRIPTION:Gr. XXL 
TRIGGER:-PT10M
END:VALARM
END:VEVENT
END:VCALENDAR